BEGIN:VCALENDAR
VERSION:2.0
PRODID:-//81.201.148.31//NONSGML kigkonsult.se iCalcreator 2.41.92//
CALSCALE:GREGORIAN
METHOD:PUBLISH
UID:65366536-3933-4538-a464-653232373062
X-WR-CALNAME:KOKOS IMPORT Theatertermine
X-WR-CALDESC:
X-WR-TIMEZONE:Europe/Berlin
BEGIN:VEVENT
UID:33376134-6164-4338-b433-643530386538
DTSTAMP:20260423T085411Z
DESCRIPTION:
DTSTART:20260709T120000
DTEND:20260709T130000
SUMMARY:Wort & Orgelklang
END:VEVENT
END:VCALENDAR
