BEGIN:VCALENDAR
VERSION:2.0
PRODID:-//81.201.148.31//NONSGML kigkonsult.se iCalcreator 2.41.92//
CALSCALE:GREGORIAN
METHOD:PUBLISH
UID:61353739-6265-4666-b766-303830373337
X-WR-CALNAME:KOKOS IMPORT Theatertermine
X-WR-CALDESC:
X-WR-TIMEZONE:Europe/Berlin
BEGIN:VEVENT
UID:35613662-3866-4034-a432-333861663334
DTSTAMP:20260421T114405Z
DESCRIPTION:
DTSTART:20260711T120000
DTEND:20260711T130000
SUMMARY:Wort & Orgelklang
END:VEVENT
END:VCALENDAR
