BEGIN:VCALENDAR
VERSION:2.0
PRODID:-//81.201.148.31//NONSGML kigkonsult.se iCalcreator 2.41.92//
CALSCALE:GREGORIAN
METHOD:PUBLISH
UID:34393436-6664-4535-b162-333837346434
X-WR-CALNAME:KOKOS IMPORT Theatertermine
X-WR-CALDESC:
X-WR-TIMEZONE:Europe/Berlin
BEGIN:VEVENT
UID:62386262-3038-4138-b838-366361333137
DTSTAMP:20260421T133044Z
DESCRIPTION:
DTSTART:20260713T120000
DTEND:20260713T130000
SUMMARY:Wort & Orgelklang
END:VEVENT
END:VCALENDAR
