BEGIN:VCALENDAR
VERSION:2.0
PRODID:-//81.201.148.31//NONSGML kigkonsult.se iCalcreator 2.41.92//
CALSCALE:GREGORIAN
METHOD:PUBLISH
UID:34303635-6330-4633-b063-613838373133
X-WR-CALNAME:KOKOS IMPORT Theatertermine
X-WR-CALDESC:
X-WR-TIMEZONE:Europe/Berlin
BEGIN:VEVENT
UID:33353762-3163-4135-a366-643038643337
DTSTAMP:20260421T151734Z
DESCRIPTION:
DTSTART:20260714T120000
DTEND:20260714T130000
SUMMARY:Wort & Orgelklang
END:VEVENT
END:VCALENDAR
