BEGIN:VCALENDAR
VERSION:2.0
PRODID:-//81.201.148.31//NONSGML kigkonsult.se iCalcreator 2.41.92//
CALSCALE:GREGORIAN
METHOD:PUBLISH
UID:64653931-6464-4332-a666-353134303661
X-WR-CALNAME:KOKOS IMPORT Theatertermine
X-WR-CALDESC:
X-WR-TIMEZONE:Europe/Berlin
BEGIN:VEVENT
UID:38323236-3839-4664-a332-396463626165
DTSTAMP:20260421T164151Z
DESCRIPTION:
DTSTART:20260715T120000
DTEND:20260715T130000
SUMMARY:Wort & Orgelklang
END:VEVENT
END:VCALENDAR
