BEGIN:VCALENDAR
VERSION:2.0
PRODID:-//81.201.148.31//NONSGML kigkonsult.se iCalcreator 2.41.92//
CALSCALE:GREGORIAN
METHOD:PUBLISH
UID:30323435-6532-4035-a239-663438386334
X-WR-CALNAME:KOKOS IMPORT Theatertermine
X-WR-CALDESC:
X-WR-TIMEZONE:Europe/Berlin
BEGIN:VEVENT
UID:61623938-3561-4961-b534-626235383862
DTSTAMP:20260421T180425Z
DESCRIPTION:
DTSTART:20260716T120000
DTEND:20260716T130000
SUMMARY:Wort & Orgelklang
END:VEVENT
END:VCALENDAR
