BEGIN:VCALENDAR
VERSION:2.0
PRODID:-//81.201.148.31//NONSGML kigkonsult.se iCalcreator 2.41.92//
CALSCALE:GREGORIAN
METHOD:PUBLISH
UID:34333032-3536-4734-a132-353366353261
X-WR-CALNAME:KOKOS IMPORT Theatertermine
X-WR-CALDESC:
X-WR-TIMEZONE:Europe/Berlin
BEGIN:VEVENT
UID:65326532-3233-4536-a466-643964303438
DTSTAMP:20260423T094140Z
DESCRIPTION:
DTSTART:20260803T120000
DTEND:20260803T130000
SUMMARY:Wort & Orgelklang
END:VEVENT
END:VCALENDAR
