BEGIN:VCALENDAR
VERSION:2.0
PRODID:-//81.201.148.31//NONSGML kigkonsult.se iCalcreator 2.41.92//
CALSCALE:GREGORIAN
METHOD:PUBLISH
UID:38643830-6333-4866-a230-393732646464
X-WR-CALNAME:KOKOS IMPORT Theatertermine
X-WR-CALDESC:
X-WR-TIMEZONE:Europe/Berlin
BEGIN:VEVENT
UID:63393166-3061-4264-b239-313334633861
DTSTAMP:20260423T105132Z
DESCRIPTION:
DTSTART:20260804T120000
DTEND:20260804T130000
SUMMARY:Wort & Orgelklang
END:VEVENT
END:VCALENDAR
