BEGIN:VCALENDAR
VERSION:2.0
PRODID:-//81.201.148.31//NONSGML kigkonsult.se iCalcreator 2.41.92//
CALSCALE:GREGORIAN
METHOD:PUBLISH
UID:64316435-3135-4737-b632-616330353763
X-WR-CALNAME:KOKOS IMPORT Theatertermine
X-WR-CALDESC:
X-WR-TIMEZONE:Europe/Berlin
BEGIN:VEVENT
UID:35356333-3738-4063-b663-616266343436
DTSTAMP:20260423T095151Z
DESCRIPTION:
DTSTART:20260907T120000
DTEND:20260907T130000
SUMMARY:Wort & Orgelklang
END:VEVENT
END:VCALENDAR
