BEGIN:VCALENDAR
VERSION:2.0
PRODID:-//81.201.148.31//NONSGML kigkonsult.se iCalcreator 2.41.92//
CALSCALE:GREGORIAN
METHOD:PUBLISH
UID:30313865-6262-4835-b662-656231653164
X-WR-CALNAME:KOKOS IMPORT Theatertermine
X-WR-CALDESC:
X-WR-TIMEZONE:Europe/Berlin
BEGIN:VEVENT
UID:38653530-3637-4638-a264-383764383333
DTSTAMP:20260423T094140Z
DESCRIPTION:
DTSTART:20260909T120000
DTEND:20260909T130000
SUMMARY:Wort & Orgelklang
END:VEVENT
END:VCALENDAR
