BEGIN:VCALENDAR
VERSION:2.0
PRODID:-//81.201.148.31//NONSGML kigkonsult.se iCalcreator 2.41.92//
CALSCALE:GREGORIAN
METHOD:PUBLISH
UID:37343534-3463-4164-b233-633365653361
X-WR-CALNAME:KOKOS IMPORT Theatertermine
X-WR-CALDESC:
X-WR-TIMEZONE:Europe/Berlin
BEGIN:VEVENT
UID:33386237-6439-4737-b661-383238353864
DTSTAMP:20260423T112420Z
DESCRIPTION:
DTSTART:20260910T120000
DTEND:20260910T130000
SUMMARY:Wort & Orgelklang
END:VEVENT
END:VCALENDAR
