BEGIN:VCALENDAR
VERSION:2.0
PRODID:-//81.201.148.31//NONSGML kigkonsult.se iCalcreator 2.41.92//
CALSCALE:GREGORIAN
METHOD:PUBLISH
UID:35626538-6463-4165-a539-303334663764
X-WR-CALNAME:KOKOS IMPORT Theatertermine
X-WR-CALDESC:
X-WR-TIMEZONE:Europe/Berlin
BEGIN:VEVENT
UID:34303637-6539-4863-b437-636235636139
DTSTAMP:20260423T094737Z
DESCRIPTION:
DTSTART:20260912T120000
DTEND:20260912T130000
SUMMARY:Wort & Orgelklang
END:VEVENT
END:VCALENDAR
