BEGIN:VCALENDAR
VERSION:2.0
PRODID:-//81.201.148.31//NONSGML kigkonsult.se iCalcreator 2.41.92//
CALSCALE:GREGORIAN
METHOD:PUBLISH
UID:61363137-6365-4462-a638-613032663538
X-WR-CALNAME:KOKOS IMPORT Theatertermine
X-WR-CALDESC:
X-WR-TIMEZONE:Europe/Berlin
BEGIN:VEVENT
UID:31653064-3437-4564-a533-656263613230
DTSTAMP:20260423T105321Z
DESCRIPTION:
DTSTART:20260914T120000
DTEND:20260914T130000
SUMMARY:Wort & Orgelklang
END:VEVENT
END:VCALENDAR
