BEGIN:VCALENDAR
VERSION:2.0
PRODID:-//81.201.148.31//NONSGML kigkonsult.se iCalcreator 2.41.92//
CALSCALE:GREGORIAN
METHOD:PUBLISH
UID:31353434-3831-4662-b463-626662303537
X-WR-CALNAME:KOKOS IMPORT Theatertermine
X-WR-CALDESC:
X-WR-TIMEZONE:Europe/Berlin
BEGIN:VEVENT
UID:39346638-3164-4538-a538-306362313062
DTSTAMP:20260423T105132Z
DESCRIPTION:
DTSTART:20260915T120000
DTEND:20260915T130000
SUMMARY:Wort & Orgelklang
END:VEVENT
END:VCALENDAR
