BEGIN:VCALENDAR
VERSION:2.0
PRODID:-//81.201.148.31//NONSGML kigkonsult.se iCalcreator 2.41.92//
CALSCALE:GREGORIAN
METHOD:PUBLISH
UID:35653836-3539-4562-a165-373662623732
X-WR-CALNAME:KOKOS IMPORT Theatertermine
X-WR-CALDESC:
X-WR-TIMEZONE:Europe/Berlin
BEGIN:VEVENT
UID:31323636-3835-4837-b937-373666366534
DTSTAMP:20260423T093945Z
DESCRIPTION:
DTSTART:20260916T120000
DTEND:20260916T130000
SUMMARY:Wort & Orgelklang
END:VEVENT
END:VCALENDAR
