BEGIN:VCALENDAR
VERSION:2.0
PRODID:-//81.201.148.31//NONSGML kigkonsult.se iCalcreator 2.41.92//
CALSCALE:GREGORIAN
METHOD:PUBLISH
UID:36666234-6637-4634-b639-656631653030
X-WR-CALNAME:KOKOS IMPORT Theatertermine
X-WR-CALDESC:
X-WR-TIMEZONE:Europe/Berlin
BEGIN:VEVENT
UID:30643533-3165-4637-b463-373232323333
DTSTAMP:20260423T105219Z
DESCRIPTION:
DTSTART:20260917T120000
DTEND:20260917T130000
SUMMARY:Wort & Orgelklang
END:VEVENT
END:VCALENDAR
