BEGIN:VCALENDAR
VERSION:2.0
PRODID:-//81.201.148.31//NONSGML kigkonsult.se iCalcreator 2.41.92//
CALSCALE:GREGORIAN
METHOD:PUBLISH
UID:32303464-3261-4830-b530-336630303461
X-WR-CALNAME:KOKOS IMPORT Theatertermine
X-WR-CALDESC:
X-WR-TIMEZONE:Europe/Berlin
BEGIN:VEVENT
UID:39646563-3135-4633-b163-646361623539
DTSTAMP:20260423T093939Z
DESCRIPTION:
DTSTART:20260919T120000
DTEND:20260919T130000
SUMMARY:Wort & Orgelklang
END:VEVENT
END:VCALENDAR
