BEGIN:VCALENDAR
VERSION:2.0
PRODID:-//81.201.148.31//NONSGML kigkonsult.se iCalcreator 2.41.92//
CALSCALE:GREGORIAN
METHOD:PUBLISH
UID:31343139-3230-4662-b336-363934393061
X-WR-CALNAME:KOKOS IMPORT Theatertermine
X-WR-CALDESC:
X-WR-TIMEZONE:Europe/Berlin
BEGIN:VEVENT
UID:34636336-3437-4033-b232-303638626533
DTSTAMP:20260423T094914Z
DESCRIPTION:
DTSTART:20260921T120000
DTEND:20260921T130000
SUMMARY:Wort & Orgelklang
END:VEVENT
END:VCALENDAR
