BEGIN:VCALENDAR
VERSION:2.0
PRODID:-//81.201.148.31//NONSGML kigkonsult.se iCalcreator 2.41.92//
CALSCALE:GREGORIAN
METHOD:PUBLISH
UID:33356466-6664-4165-b338-346534336532
X-WR-CALNAME:KOKOS IMPORT Theatertermine
X-WR-CALDESC:
X-WR-TIMEZONE:Europe/Berlin
BEGIN:VEVENT
UID:32303964-3430-4830-b736-643531626165
DTSTAMP:20260423T094950Z
DESCRIPTION:
DTSTART:20260922T120000
DTEND:20260922T130000
SUMMARY:Wort & Orgelklang
END:VEVENT
END:VCALENDAR
