BEGIN:VCALENDAR
VERSION:2.0
PRODID:-//81.201.148.31//NONSGML kigkonsult.se iCalcreator 2.41.92//
CALSCALE:GREGORIAN
METHOD:PUBLISH
UID:64333639-3530-4464-b636-326535393632
X-WR-CALNAME:KOKOS IMPORT Theatertermine
X-WR-CALDESC:
X-WR-TIMEZONE:Europe/Berlin
BEGIN:VEVENT
UID:38376261-3064-4638-b239-666331343161
DTSTAMP:20260423T094736Z
DESCRIPTION:
DTSTART:20260302T180000
DTEND:20260302T190000
SUMMARY:Wort & Orgelklang
END:VEVENT
END:VCALENDAR
