BEGIN:VCALENDAR
VERSION:2.0
PRODID:-//81.201.148.31//NONSGML kigkonsult.se iCalcreator 2.41.92//
CALSCALE:GREGORIAN
METHOD:PUBLISH
UID:37393533-6534-4863-a531-616463393431
X-WR-CALNAME:KOKOS IMPORT Theatertermine
X-WR-CALDESC:
X-WR-TIMEZONE:Europe/Berlin
BEGIN:VEVENT
UID:30363439-3264-4464-b737-313130373838
DTSTAMP:20260423T112320Z
DESCRIPTION:
DTSTART:20260303T180000
DTEND:20260303T190000
SUMMARY:Wort & Orgelklang
END:VEVENT
END:VCALENDAR
