BEGIN:VCALENDAR
VERSION:2.0
PRODID:-//81.201.148.31//NONSGML kigkonsult.se iCalcreator 2.41.92//
CALSCALE:GREGORIAN
METHOD:PUBLISH
UID:32663265-6164-4430-a162-386532623561
X-WR-CALNAME:KOKOS IMPORT Theatertermine
X-WR-CALDESC:
X-WR-TIMEZONE:Europe/Berlin
BEGIN:VEVENT
UID:62396465-3663-4739-b765-616137383663
DTSTAMP:20260419T181508Z
DESCRIPTION:
DTSTART:20260309T180000
DTEND:20260309T190000
SUMMARY:Wort & Orgelklang
END:VEVENT
END:VCALENDAR
