BEGIN:VCALENDAR
VERSION:2.0
PRODID:-//81.201.148.31//NONSGML kigkonsult.se iCalcreator 2.41.92//
CALSCALE:GREGORIAN
METHOD:PUBLISH
UID:63633230-6565-4364-a263-313864366565
X-WR-CALNAME:KOKOS IMPORT Theatertermine
X-WR-CALDESC:
X-WR-TIMEZONE:Europe/Berlin
BEGIN:VEVENT
UID:39613166-3831-4537-b830-333162633762
DTSTAMP:20260420T120153Z
DESCRIPTION:
DTSTART:20260317T180000
DTEND:20260317T190000
SUMMARY:Wort & Orgelklang
END:VEVENT
END:VCALENDAR
