BEGIN:VCALENDAR
VERSION:2.0
PRODID:-//81.201.148.31//NONSGML kigkonsult.se iCalcreator 2.41.92//
CALSCALE:GREGORIAN
METHOD:PUBLISH
UID:39646562-3864-4430-b232-303766333339
X-WR-CALNAME:KOKOS IMPORT Theatertermine
X-WR-CALDESC:
X-WR-TIMEZONE:Europe/Berlin
BEGIN:VEVENT
UID:61343964-3032-4330-a232-663935616237
DTSTAMP:20260420T070635Z
DESCRIPTION:
DTSTART:20260318T180000
DTEND:20260318T190000
SUMMARY:Wort & Orgelklang
END:VEVENT
END:VCALENDAR
