BEGIN:VCALENDAR
VERSION:2.0
PRODID:-//81.201.148.31//NONSGML kigkonsult.se iCalcreator 2.41.92//
CALSCALE:GREGORIAN
METHOD:PUBLISH
UID:39663937-3135-4435-b138-656131333864
X-WR-CALNAME:KOKOS IMPORT Theatertermine
X-WR-CALDESC:
X-WR-TIMEZONE:Europe/Berlin
BEGIN:VEVENT
UID:38623133-6633-4234-a633-376264353761
DTSTAMP:20260420T100625Z
DESCRIPTION:
DTSTART:20260323T180000
DTEND:20260323T190000
SUMMARY:Wort & Orgelklang
END:VEVENT
END:VCALENDAR
