BEGIN:VCALENDAR
VERSION:2.0
PRODID:-//81.201.148.31//NONSGML kigkonsult.se iCalcreator 2.41.92//
CALSCALE:GREGORIAN
METHOD:PUBLISH
UID:39336464-3765-4937-b933-303265643861
X-WR-CALNAME:KOKOS IMPORT Theatertermine
X-WR-CALDESC:
X-WR-TIMEZONE:Europe/Berlin
BEGIN:VEVENT
UID:62633032-3465-4934-b434-646633663735
DTSTAMP:20260420T101947Z
DESCRIPTION:
DTSTART:20260324T180000
DTEND:20260324T190000
SUMMARY:Wort & Orgelklang
END:VEVENT
END:VCALENDAR
