BEGIN:VCALENDAR
VERSION:2.0
PRODID:-//81.201.148.31//NONSGML kigkonsult.se iCalcreator 2.41.92//
CALSCALE:GREGORIAN
METHOD:PUBLISH
UID:65303732-3166-4230-a166-363537346664
X-WR-CALNAME:KOKOS IMPORT Theatertermine
X-WR-CALDESC:
X-WR-TIMEZONE:Europe/Berlin
BEGIN:VEVENT
UID:38336535-3134-4436-a532-616534653363
DTSTAMP:20260420T070352Z
DESCRIPTION:
DTSTART:20260325T180000
DTEND:20260325T190000
SUMMARY:Wort & Orgelklang
END:VEVENT
END:VCALENDAR
