BEGIN:VCALENDAR
VERSION:2.0
PRODID:-//81.201.148.31//NONSGML kigkonsult.se iCalcreator 2.41.92//
CALSCALE:GREGORIAN
METHOD:PUBLISH
UID:37633866-6436-4662-b733-393635383131
X-WR-CALNAME:KOKOS IMPORT Theatertermine
X-WR-CALDESC:
X-WR-TIMEZONE:Europe/Berlin
BEGIN:VEVENT
UID:35313931-6434-4232-a234-323665303235
DTSTAMP:20260420T191552Z
DESCRIPTION:
DTSTART:20260330T180000
DTEND:20260330T190000
SUMMARY:Wort & Orgelklang
END:VEVENT
END:VCALENDAR
