BEGIN:VCALENDAR
VERSION:2.0
PRODID:-//81.201.148.31//NONSGML kigkonsult.se iCalcreator 2.41.92//
CALSCALE:GREGORIAN
METHOD:PUBLISH
UID:37633466-3263-4361-b330-393333663631
X-WR-CALNAME:KOKOS IMPORT Theatertermine
X-WR-CALDESC:
X-WR-TIMEZONE:Europe/Berlin
BEGIN:VEVENT
UID:31333734-3235-4035-a166-343437616563
DTSTAMP:20260421T014416Z
DESCRIPTION:
DTSTART:20260331T180000
DTEND:20260331T190000
SUMMARY:Wort & Orgelklang
END:VEVENT
END:VCALENDAR
