BEGIN:VCALENDAR
VERSION:2.0
PRODID:-//81.201.148.31//NONSGML kigkonsult.se iCalcreator 2.41.92//
CALSCALE:GREGORIAN
METHOD:PUBLISH
UID:38346237-3936-4466-a265-633335306436
X-WR-CALNAME:KOKOS IMPORT Theatertermine
X-WR-CALDESC:
X-WR-TIMEZONE:Europe/Berlin
BEGIN:VEVENT
UID:38623130-6336-4334-a238-666164363033
DTSTAMP:20260421T055750Z
DESCRIPTION:
DTSTART:20260401T180000
DTEND:20260401T190000
SUMMARY:Wort & Orgelklang
END:VEVENT
END:VCALENDAR
