BEGIN:VCALENDAR
VERSION:2.0
PRODID:-//81.201.148.31//NONSGML kigkonsult.se iCalcreator 2.41.92//
CALSCALE:GREGORIAN
METHOD:PUBLISH
UID:62623432-3266-4534-b237-333566366162
X-WR-CALNAME:KOKOS IMPORT Theatertermine
X-WR-CALDESC:
X-WR-TIMEZONE:Europe/Berlin
BEGIN:VEVENT
UID:62313032-3735-4136-a462-656539303332
DTSTAMP:20260421T055954Z
DESCRIPTION:
DTSTART:20260406T180000
DTEND:20260406T190000
SUMMARY:Wort & Orgelklang
END:VEVENT
END:VCALENDAR
