BEGIN:VCALENDAR
VERSION:2.0
PRODID:-//81.201.148.31//NONSGML kigkonsult.se iCalcreator 2.41.92//
CALSCALE:GREGORIAN
METHOD:PUBLISH
UID:35613232-3539-4131-a562-316137616666
X-WR-CALNAME:KOKOS IMPORT Theatertermine
X-WR-CALDESC:
X-WR-TIMEZONE:Europe/Berlin
BEGIN:VEVENT
UID:31626637-3837-4330-b464-396336643666
DTSTAMP:20260421T074012Z
DESCRIPTION:
DTSTART:20260407T180000
DTEND:20260407T190000
SUMMARY:Wort & Orgelklang
END:VEVENT
END:VCALENDAR
