BEGIN:VCALENDAR
VERSION:2.0
PRODID:-//81.201.148.31//NONSGML kigkonsult.se iCalcreator 2.41.92//
CALSCALE:GREGORIAN
METHOD:PUBLISH
UID:61353734-3664-4331-b234-356362373131
X-WR-CALNAME:KOKOS IMPORT Theatertermine
X-WR-CALDESC:
X-WR-TIMEZONE:Europe/Berlin
BEGIN:VEVENT
UID:63653264-3061-4031-a636-633534656565
DTSTAMP:20260421T074412Z
DESCRIPTION:
DTSTART:20260408T180000
DTEND:20260408T190000
SUMMARY:Wort & Orgelklang
END:VEVENT
END:VCALENDAR
