BEGIN:VCALENDAR
VERSION:2.0
PRODID:-//81.201.148.31//NONSGML kigkonsult.se iCalcreator 2.41.92//
CALSCALE:GREGORIAN
METHOD:PUBLISH
UID:35343039-3139-4034-b431-376130333464
X-WR-CALNAME:KOKOS IMPORT Theatertermine
X-WR-CALDESC:
X-WR-TIMEZONE:Europe/Berlin
BEGIN:VEVENT
UID:38366434-3530-4431-b630-626138303066
DTSTAMP:20260423T102607Z
DESCRIPTION:
DTSTART:20260413T180000
DTEND:20260413T190000
SUMMARY:Wort & Orgelklang
END:VEVENT
END:VCALENDAR
