BEGIN:VCALENDAR
VERSION:2.0
PRODID:-//81.201.148.31//NONSGML kigkonsult.se iCalcreator 2.41.92//
CALSCALE:GREGORIAN
METHOD:PUBLISH
UID:30323139-6639-4230-b163-343164613731
X-WR-CALNAME:KOKOS IMPORT Theatertermine
X-WR-CALDESC:
X-WR-TIMEZONE:Europe/Berlin
BEGIN:VEVENT
UID:65363765-3734-4961-b962-356538373435
DTSTAMP:20260421T151049Z
DESCRIPTION:
DTSTART:20260414T180000
DTEND:20260414T190000
SUMMARY:Wort & Orgelklang
END:VEVENT
END:VCALENDAR
