BEGIN:VCALENDAR
VERSION:2.0
PRODID:-//81.201.148.31//NONSGML kigkonsult.se iCalcreator 2.41.92//
CALSCALE:GREGORIAN
METHOD:PUBLISH
UID:63323266-3938-4263-b234-643739633837
X-WR-CALNAME:KOKOS IMPORT Theatertermine
X-WR-CALDESC:
X-WR-TIMEZONE:Europe/Berlin
BEGIN:VEVENT
UID:63313131-3234-4539-a433-343633313966
DTSTAMP:20260421T095510Z
DESCRIPTION:
DTSTART:20260415T180000
DTEND:20260415T190000
SUMMARY:Wort & Orgelklang
END:VEVENT
END:VCALENDAR
