BEGIN:VCALENDAR
VERSION:2.0
PRODID:-//81.201.148.31//NONSGML kigkonsult.se iCalcreator 2.41.92//
CALSCALE:GREGORIAN
METHOD:PUBLISH
UID:39656537-3338-4937-a430-636233356462
X-WR-CALNAME:KOKOS IMPORT Theatertermine
X-WR-CALDESC:
X-WR-TIMEZONE:Europe/Berlin
BEGIN:VEVENT
UID:63396439-6338-4136-b231-343533646431
DTSTAMP:20260419T151904Z
DESCRIPTION:
DTSTART:20260421T180000
DTEND:20260421T190000
SUMMARY:Wort & Orgelklang
END:VEVENT
END:VCALENDAR
