BEGIN:VCALENDAR
VERSION:2.0
PRODID:-//81.201.148.31//NONSGML kigkonsult.se iCalcreator 2.41.92//
CALSCALE:GREGORIAN
METHOD:PUBLISH
UID:36333737-3531-4534-a432-306461313237
X-WR-CALNAME:KOKOS IMPORT Theatertermine
X-WR-CALDESC:
X-WR-TIMEZONE:Europe/Berlin
BEGIN:VEVENT
UID:33643065-3264-4635-b631-643965386135
DTSTAMP:20260419T151139Z
DESCRIPTION:
DTSTART:20260422T180000
DTEND:20260422T190000
SUMMARY:Wort & Orgelklang
END:VEVENT
END:VCALENDAR
