BEGIN:VCALENDAR
VERSION:2.0
PRODID:-//81.201.148.31//NONSGML kigkonsult.se iCalcreator 2.41.92//
CALSCALE:GREGORIAN
METHOD:PUBLISH
UID:63653331-6463-4263-a362-616433376238
X-WR-CALNAME:KOKOS IMPORT Theatertermine
X-WR-CALDESC:
X-WR-TIMEZONE:Europe/Berlin
BEGIN:VEVENT
UID:31323364-3939-4430-b336-643736633433
DTSTAMP:20260420T012325Z
DESCRIPTION:
DTSTART:20260427T180000
DTEND:20260427T190000
SUMMARY:Wort & Orgelklang
END:VEVENT
END:VCALENDAR
