BEGIN:VCALENDAR
VERSION:2.0
PRODID:-//81.201.148.31//NONSGML kigkonsult.se iCalcreator 2.41.92//
CALSCALE:GREGORIAN
METHOD:PUBLISH
UID:37633961-3463-4531-b136-333733613261
X-WR-CALNAME:KOKOS IMPORT Theatertermine
X-WR-CALDESC:
X-WR-TIMEZONE:Europe/Berlin
BEGIN:VEVENT
UID:39626635-3231-4335-b038-363235633739
DTSTAMP:20260420T030916Z
DESCRIPTION:
DTSTART:20260428T180000
DTEND:20260428T190000
SUMMARY:Wort & Orgelklang
END:VEVENT
END:VCALENDAR
