BEGIN:VCALENDAR
VERSION:2.0
PRODID:-//81.201.148.31//NONSGML kigkonsult.se iCalcreator 2.41.92//
CALSCALE:GREGORIAN
METHOD:PUBLISH
UID:32393263-6635-4635-a130-656235396630
X-WR-CALNAME:KOKOS IMPORT Theatertermine
X-WR-CALDESC:
X-WR-TIMEZONE:Europe/Berlin
BEGIN:VEVENT
UID:37633362-6162-4366-a566-336432353430
DTSTAMP:20260420T135701Z
DESCRIPTION:
DTSTART:20260506T180000
DTEND:20260506T190000
SUMMARY:Wort & Orgelklang
END:VEVENT
END:VCALENDAR
