BEGIN:VCALENDAR
VERSION:2.0
PRODID:-//81.201.148.31//NONSGML kigkonsult.se iCalcreator 2.41.92//
CALSCALE:GREGORIAN
METHOD:PUBLISH
UID:63313466-6130-4164-a662-616332333631
X-WR-CALNAME:KOKOS IMPORT Theatertermine
X-WR-CALDESC:
X-WR-TIMEZONE:Europe/Berlin
BEGIN:VEVENT
UID:32626161-6535-4438-a166-366135356536
DTSTAMP:20260420T210043Z
DESCRIPTION:
DTSTART:20260512T180000
DTEND:20260512T190000
SUMMARY:Wort & Orgelklang
END:VEVENT
END:VCALENDAR
