BEGIN:VCALENDAR
VERSION:2.0
PRODID:-//81.201.148.31//NONSGML kigkonsult.se iCalcreator 2.41.92//
CALSCALE:GREGORIAN
METHOD:PUBLISH
UID:33356439-3038-4233-a234-383661386263
X-WR-CALNAME:KOKOS IMPORT Theatertermine
X-WR-CALDESC:
X-WR-TIMEZONE:Europe/Berlin
BEGIN:VEVENT
UID:36343065-3439-4239-a238-643439633730
DTSTAMP:20260421T000413Z
DESCRIPTION:
DTSTART:20260513T180000
DTEND:20260513T190000
SUMMARY:Wort & Orgelklang
END:VEVENT
END:VCALENDAR
