BEGIN:VCALENDAR
VERSION:2.0
PRODID:-//81.201.148.31//NONSGML kigkonsult.se iCalcreator 2.41.92//
CALSCALE:GREGORIAN
METHOD:PUBLISH
UID:33393935-3231-4532-b036-386463653933
X-WR-CALNAME:KOKOS IMPORT Theatertermine
X-WR-CALDESC:
X-WR-TIMEZONE:Europe/Berlin
BEGIN:VEVENT
UID:36313535-3533-4538-b462-383432356266
DTSTAMP:20260423T095059Z
DESCRIPTION:
DTSTART:20260518T180000
DTEND:20260518T190000
SUMMARY:Wort & Orgelklang
END:VEVENT
END:VCALENDAR
