BEGIN:VCALENDAR
VERSION:2.0
PRODID:-//81.201.148.31//NONSGML kigkonsult.se iCalcreator 2.41.92//
CALSCALE:GREGORIAN
METHOD:PUBLISH
UID:65363538-3438-4438-a162-303938643838
X-WR-CALNAME:KOKOS IMPORT Theatertermine
X-WR-CALDESC:
X-WR-TIMEZONE:Europe/Berlin
BEGIN:VEVENT
UID:34643339-6236-4465-b333-656634306165
DTSTAMP:20260423T105456Z
DESCRIPTION:
DTSTART:20260519T180000
DTEND:20260519T190000
SUMMARY:Wort & Orgelklang
END:VEVENT
END:VCALENDAR
