BEGIN:VCALENDAR
VERSION:2.0
PRODID:-//81.201.148.31//NONSGML kigkonsult.se iCalcreator 2.41.92//
CALSCALE:GREGORIAN
METHOD:PUBLISH
UID:63613735-3763-4462-a363-633562313335
X-WR-CALNAME:KOKOS IMPORT Theatertermine
X-WR-CALDESC:
X-WR-TIMEZONE:Europe/Berlin
BEGIN:VEVENT
UID:37393731-6433-4831-a338-396537313338
DTSTAMP:20260423T105250Z
DESCRIPTION:
DTSTART:20260520T180000
DTEND:20260520T190000
SUMMARY:Wort & Orgelklang
END:VEVENT
END:VCALENDAR
