BEGIN:VCALENDAR
VERSION:2.0
PRODID:-//81.201.148.31//NONSGML kigkonsult.se iCalcreator 2.41.92//
CALSCALE:GREGORIAN
METHOD:PUBLISH
UID:64653435-3161-4765-a533-633263393463
X-WR-CALNAME:KOKOS IMPORT Theatertermine
X-WR-CALDESC:
X-WR-TIMEZONE:Europe/Berlin
BEGIN:VEVENT
UID:38356432-3333-4432-b964-343839383436
DTSTAMP:20260423T105321Z
DESCRIPTION:
DTSTART:20260525T180000
DTEND:20260525T190000
SUMMARY:Wort & Orgelklang
END:VEVENT
END:VCALENDAR
