BEGIN:VCALENDAR
VERSION:2.0
PRODID:-//81.201.148.31//NONSGML kigkonsult.se iCalcreator 2.41.92//
CALSCALE:GREGORIAN
METHOD:PUBLISH
UID:32363466-3765-4839-b564-663533616161
X-WR-CALNAME:KOKOS IMPORT Theatertermine
X-WR-CALDESC:
X-WR-TIMEZONE:Europe/Berlin
BEGIN:VEVENT
UID:32353736-3335-4065-a561-323239623331
DTSTAMP:20260423T105322Z
DESCRIPTION:
DTSTART:20260526T180000
DTEND:20260526T190000
SUMMARY:Wort & Orgelklang
END:VEVENT
END:VCALENDAR
