BEGIN:VCALENDAR
VERSION:2.0
PRODID:-//81.201.148.31//NONSGML kigkonsult.se iCalcreator 2.41.92//
CALSCALE:GREGORIAN
METHOD:PUBLISH
UID:65313266-6263-4431-a230-626265336332
X-WR-CALNAME:KOKOS IMPORT Theatertermine
X-WR-CALDESC:
X-WR-TIMEZONE:Europe/Berlin
BEGIN:VEVENT
UID:61343236-6535-4336-a632-636334383835
DTSTAMP:20260423T105133Z
DESCRIPTION:
DTSTART:20260601T180000
DTEND:20260601T190000
SUMMARY:Wort & Orgelklang
END:VEVENT
END:VCALENDAR
