BEGIN:VCALENDAR
VERSION:2.0
PRODID:-//81.201.148.31//NONSGML kigkonsult.se iCalcreator 2.41.92//
CALSCALE:GREGORIAN
METHOD:PUBLISH
UID:65336538-3564-4565-b230-633438653563
X-WR-CALNAME:KOKOS IMPORT Theatertermine
X-WR-CALDESC:
X-WR-TIMEZONE:Europe/Berlin
BEGIN:VEVENT
UID:30626665-6130-4238-a539-303431323739
DTSTAMP:20260423T094051Z
DESCRIPTION:
DTSTART:20260602T180000
DTEND:20260602T190000
SUMMARY:Wort & Orgelklang
END:VEVENT
END:VCALENDAR
